BEGIN:VCALENDAR
VERSION:2.0
PRODID:-//Department Of Education//fc3dc53c-e0b9-4c8d-b007-a9a8f5481405
BEGIN:VTIMEZONE
TZID:Australia/Sydney
TZURL:http://tzurl.org/zoneinfo-outlook/Australia/Sydney
X-LIC-LOCATION:Australia/Sydney
BEGIN:STANDARD
TZOFFSETFROM:+1100
TZOFFSETTO:+1000
TZNAME:AEST
DTSTART:19700405T030000
RRULE:FREQ=YEARLY;BYMONTH=4;BYDAY=1SU
END:STANDARD
BEGIN:DAYLIGHT
TZOFFSETFROM:+1000
TZOFFSETTO:+1100
TZNAME:AEDT
DTSTART:19701004T020000
RRULE:FREQ=YEARLY;BYMONTH=10;BYDAY=1SU
END:DAYLIGHT
END:VTIMEZONE
CALSCALE:GREGORIAN
X-WR-TIMEZONE:Australia/Sydney
BEGIN:VEVENT
DTSTART;TZID=Australia/Sydney:20200306T142500
DTEND;TZID=Australia/Sydney:20200306T151500
DTSTAMP:20200306T000000Z
UID:f80abdff-af07-41f6-9626-c69baebeccc6
LOCATION:Quaama Public School
SUMMARY;LANGUAGE=en-us:Assembly
SEQUENCE:0
DESCRIPTION:Whole school assembly, recognising and celebrating student achievement. Each class takes turn to present an item to the whole school. Parents and carers are most welcome to attend. 
END:VEVENT
TRANSP:TRANSPARENT
END:VCALENDAR
