BEGIN:VCALENDAR
VERSION:2.0
PRODID:-//Department Of Education//c20ab777-b8cc-4e05-b87c-0f58a0c73adc
BEGIN:VTIMEZONE
TZID:Australia/Sydney
TZURL:http://tzurl.org/zoneinfo-outlook/Australia/Sydney
X-LIC-LOCATION:Australia/Sydney
BEGIN:STANDARD
TZOFFSETFROM:+1100
TZOFFSETTO:+1000
TZNAME:AEST
DTSTART:19700405T030000
RRULE:FREQ=YEARLY;BYMONTH=4;BYDAY=1SU
END:STANDARD
BEGIN:DAYLIGHT
TZOFFSETFROM:+1000
TZOFFSETTO:+1100
TZNAME:AEDT
DTSTART:19701004T020000
RRULE:FREQ=YEARLY;BYMONTH=10;BYDAY=1SU
END:DAYLIGHT
END:VTIMEZONE
CALSCALE:GREGORIAN
X-WR-TIMEZONE:Australia/Sydney
BEGIN:VEVENT
DTSTART;TZID=Australia/Sydney:20200305T100000
DTEND;TZID=Australia/Sydney:20200305T102000
DTSTAMP:20200305T000000Z
UID:a2100bf5-30c4-4c66-8dae-de29903960ed
LOCATION:Quaama Public School
SUMMARY;LANGUAGE=en-us:The Big Vegie Crunch
SEQUENCE:0
DESCRIPTION:As part of Vegetable Week, students are encouraged to bring in some healthy crunchy vegetables to crunch on.
END:VEVENT
TRANSP:TRANSPARENT
END:VCALENDAR
